BEGIN:VCALENDAR
VERSION:2.0
PRODID:-//Microsoft Corporation//Outlook 12.0 MIMEDIR//EN
X-PUBLISHED-TTL:P1W
BEGIN:VEVENT
UID:69e83eece7d80
DTSTART:20231028T000000Z
SEQUENCE:0
TRANSP:OPAQUE
DTEND:20231029T000000Z
LOCATION:j
SUMMARY:Tournoi de Spike Ball Roundnet'zala
ORGANIZER:Maire de Brunstatt-Didenheim
CLASS:PUBLIC
DESCRIPTION:Après une première édition plus que réussie, la section Roudnet’zala du Cercle Sportif Saint-Georges réitère son tournoi de l'Halloween.\r\n\r\nVenez découvrir le Roundnet dans une ambiance Halloweenesque le samedi 28 et le dimanche 29 octobre 2023 pour notre deuxième édition du Tournoi de l’Halloween. Un tournoi plus que sportif qui accueillera des équipes venues de toute la France, de Suisse, d'Autriche, d'Allemagne et d'Espagne.\r\n\r\nVous pourrez supporter les joueuses et joueurs de tous niveaux tout en profitant de la buvette et des décors effrayants.\r\n\r\nC'est aussi l'occasion de rencontrer les membres de Roundetzala et pourquoi pas, décider de faire partie du club !\r\n\r\nSamedi 28 et dimanche 29 octobre de 10h à 19h\r\n\r\nZone de loisirs de Didenheim, au bord de l'Ill proche du pont André Erbland\r\n
X-ALT-DESC;FMTTYPE=text/html:<p><strong>Après une première édition plus que réussie, la section Roudnet’zala du Cercle Sportif Saint-Georges réitère son tournoi de l'Halloween.</strong></p>\r\n\r\n<p>Venez découvrir le Roundnet dans une ambiance Halloweenesque le samedi 28 et le dimanche 29 octobre 2023 pour notre deuxième édition du Tournoi de l’Halloween. Un tournoi plus que sportif qui accueillera des équipes venues de toute la France, de Suisse, d'Autriche, d'Allemagne et d'Espagne.</p>\r\n\r\n<p>Vous pourrez supporter les joueuses et joueurs de tous niveaux tout en profitant de la buvette et des décors effrayants.</p>\r\n\r\n<p>C'est aussi l'occasion de rencontrer les membres de Roundetzala et pourquoi pas, décider de faire partie du club !</p>\r\n\r\n<p><strong>Samedi 28 et dimanche 29 octobre de 10h à 19h</strong></p>\r\n\r\n<p>Zone de loisirs de Didenheim, au bord de l'Ill proche du pont André Erbland</p>\r\n
DTSTAMP:20260422T032220Z
END:VEVENT
END:VCALENDAR
